BEGIN:VCALENDAR
VERSION:2.0
PRODID:-//PAYYANUR COLLEGE - ECPv6.15.15//NONSGML v1.0//EN
CALSCALE:GREGORIAN
METHOD:PUBLISH
X-ORIGINAL-URL:https://payyanurcollege.ac.in
X-WR-CALDESC:Events for PAYYANUR COLLEGE
REFRESH-INTERVAL;VALUE=DURATION:PT1H
X-Robots-Tag:noindex
X-PUBLISHED-TTL:PT1H
BEGIN:VTIMEZONE
TZID:Asia/Kolkata
BEGIN:STANDARD
TZOFFSETFROM:+0530
TZOFFSETTO:+0530
TZNAME:IST
DTSTART:20250101T000000
END:STANDARD
END:VTIMEZONE
BEGIN:VEVENT
DTSTART;TZID=Asia/Kolkata:20260217T080000
DTEND;TZID=Asia/Kolkata:20260220T170000
DTSTAMP:20260425T183206
CREATED:20260207T043928Z
LAST-MODIFIED:20260207T043928Z
UID:17518-1771315200-1771606800@payyanurcollege.ac.in
SUMMARY:SPARKLER- EDUCATION EXPO
DESCRIPTION:
URL:https://payyanurcollege.ac.in/event/sparkler-education-expo/
ATTACH;FMTTYPE=image/jpeg:https://payyanurcollege.ac.in/wp-content/uploads/2026/02/WhatsApp-Image-2026-02-06-at-4.00.51-PM.jpeg
END:VEVENT
END:VCALENDAR