BEGIN:VCALENDAR
VERSION:2.0
PRODID:-//PAYYANUR COLLEGE - ECPv6.15.15//NONSGML v1.0//EN
CALSCALE:GREGORIAN
METHOD:PUBLISH
X-ORIGINAL-URL:https://payyanurcollege.ac.in
X-WR-CALDESC:Events for PAYYANUR COLLEGE
REFRESH-INTERVAL;VALUE=DURATION:PT1H
X-Robots-Tag:noindex
X-PUBLISHED-TTL:PT1H
BEGIN:VTIMEZONE
TZID:UTC
BEGIN:STANDARD
TZOFFSETFROM:+0000
TZOFFSETTO:+0000
TZNAME:UTC
DTSTART:20230101T000000
END:STANDARD
END:VTIMEZONE
BEGIN:VEVENT
DTSTART;TZID=UTC:20240127T080000
DTEND;TZID=UTC:20240127T170000
DTSTAMP:20260424T115613
CREATED:20240127T044828Z
LAST-MODIFIED:20240127T044828Z
UID:10336-1706342400-1706374800@payyanurcollege.ac.in
SUMMARY:test
DESCRIPTION:
URL:https://payyanurcollege.ac.in/event/test/
ATTACH;FMTTYPE=image/jpeg:https://payyanurcollege.ac.in/wp-content/uploads/2023/11/WhatsApp-Image-2023-11-21-at-10.06.11-AM.jpeg
END:VEVENT
BEGIN:VEVENT
DTSTART;TZID=UTC:20240127T080000
DTEND;TZID=UTC:20240127T170000
DTSTAMP:20260424T115613
CREATED:20240127T045641Z
LAST-MODIFIED:20240127T045641Z
UID:10343-1706342400-1706374800@payyanurcollege.ac.in
SUMMARY:event 3
DESCRIPTION:
URL:https://payyanurcollege.ac.in/event/event-3/
ATTACH;FMTTYPE=image/jpeg:https://payyanurcollege.ac.in/wp-content/uploads/2023/11/WhatsApp-Image-2023-11-21-at-10.06.11-AM.jpeg
END:VEVENT
END:VCALENDAR