BEGIN:VCALENDAR
VERSION:2.0
PRODID:-//PAYYANUR COLLEGE - ECPv6.15.15//NONSGML v1.0//EN
CALSCALE:GREGORIAN
METHOD:PUBLISH
X-ORIGINAL-URL:https://payyanurcollege.ac.in
X-WR-CALDESC:Events for PAYYANUR COLLEGE
REFRESH-INTERVAL;VALUE=DURATION:PT1H
X-Robots-Tag:noindex
X-PUBLISHED-TTL:PT1H
BEGIN:VTIMEZONE
TZID:UTC
BEGIN:STANDARD
TZOFFSETFROM:+0000
TZOFFSETTO:+0000
TZNAME:UTC
DTSTART:20230101T000000
END:STANDARD
END:VTIMEZONE
BEGIN:VEVENT
DTSTART;TZID=UTC:20240125T100000
DTEND;TZID=UTC:20240125T160000
DTSTAMP:20260424T115606
CREATED:20240123T063454Z
LAST-MODIFIED:20240123T063557Z
UID:10301-1706176800-1706198400@payyanurcollege.ac.in
SUMMARY:ONE DAY NATIONAL SEMINAR- RECENT ADVANCES IN CHEMICAL RESEARCH (RACR-24)- DEPT OF CHEMISTRY
DESCRIPTION:
URL:https://payyanurcollege.ac.in/event/one-day-national-seminar-recent-advances-in-chemical-research-racr-24-dept-of-chemistry/
ATTACH;FMTTYPE=image/jpeg:https://payyanurcollege.ac.in/wp-content/uploads/2024/01/WhatsApp-Image-2024-01-23-at-11.44.38-AM.jpeg
END:VEVENT
END:VCALENDAR